BEGIN:VCALENDAR
VERSION:2.0
PRODID:-//Worth Avenue - ECPv6.15.17.1//NONSGML v1.0//EN
CALSCALE:GREGORIAN
METHOD:PUBLISH
X-WR-CALNAME:Worth Avenue
X-ORIGINAL-URL:https://worth-avenue.com
X-WR-CALDESC:Events for Worth Avenue
REFRESH-INTERVAL;VALUE=DURATION:PT1H
X-Robots-Tag:noindex
X-PUBLISHED-TTL:PT1H
BEGIN:VTIMEZONE
TZID:America/New_York
BEGIN:DAYLIGHT
TZOFFSETFROM:-0500
TZOFFSETTO:-0400
TZNAME:EDT
DTSTART:20240310T070000
END:DAYLIGHT
BEGIN:STANDARD
TZOFFSETFROM:-0400
TZOFFSETTO:-0500
TZNAME:EST
DTSTART:20241103T060000
END:STANDARD
BEGIN:DAYLIGHT
TZOFFSETFROM:-0500
TZOFFSETTO:-0400
TZNAME:EDT
DTSTART:20250309T070000
END:DAYLIGHT
BEGIN:STANDARD
TZOFFSETFROM:-0400
TZOFFSETTO:-0500
TZNAME:EST
DTSTART:20251102T060000
END:STANDARD
BEGIN:DAYLIGHT
TZOFFSETFROM:-0500
TZOFFSETTO:-0400
TZNAME:EDT
DTSTART:20260308T070000
END:DAYLIGHT
BEGIN:STANDARD
TZOFFSETFROM:-0400
TZOFFSETTO:-0500
TZNAME:EST
DTSTART:20261101T060000
END:STANDARD
END:VTIMEZONE
BEGIN:VEVENT
DTSTART;TZID=America/New_York:20250708T170000
DTEND;TZID=America/New_York:20251014T190000
DTSTAMP:20260421T143016
CREATED:20240708T151956Z
LAST-MODIFIED:20250602T162943Z
UID:10000064-1751994000-1760468400@worth-avenue.com
SUMMARY:Turtle Tuesday Beach Cleanup | Worth Avenue
DESCRIPTION:“My team had such a fulfilling and meaningful time out on the beach last week. Even through this week\, word was still going around about how good it felt to do something for the community!” – Tom Moyer \nThank you for your interest in the Worth Avenue beach cleanups known as Turtle Tuesday! \nIf you would like to be added to our email distribution list for the cleanups\, you can sign up for our newsletter at the bottom of this page. You will receive a notice prior to each cleanup which will identify each monthly specific location: cleanups are always located on the Island of Palm Beach. Nature dictates our cleanup locations\, whether through recent storm activity or where the greater need is. \nThe cleanups take place on the 2nd Tuesday of the summer months July through October\, 2025 from 5 to 7 p.m. Supplies are provided. Additionally\, we provide community service hours – please supply the documentation and we can sign off at the cleanup. \nCarpooling is highly suggested as we often park on residential streets with limited space.\nCome for as little or long as you like! Feel free to follow me on Instagram at @Turtle.Tuesday and @worthavenuepalmbeach for alerts\, updates and announcements as well. \nCan’t join us?  Be sure to pick up a Turtle Tuesday bucket on Midtown Beach and help us keep the beach clean on your own time! \nSee you on the beach! \nGregg\nFounder
URL:https://worth-avenue.com/events/turtle-tuesday-beach-cleanup-2-2/
ATTACH;FMTTYPE=image/png:https://worth-avenue.com/wp-content/uploads/2024/07/TT-2025.png
END:VEVENT
END:VCALENDAR